BEGIN:VCALENDAR
VERSION:2.0
PRODID:-//Tukios.com/
BEGIN:VEVENT
UID:92c94a28-ef2c-4284-bfb2-65b061cb6af1@www.miznerfuneralhome.com
DTSTAMP:20260420T220332Z
DTSTART:20260427T150000Z
DTEND:20260427T160000Z
SUMMARY:Funeral Service
DESCRIPTION:
URL:https://www.miznerfuneralhome.com/obituaries/joseph-palmer
LOCATION:Saegertown United Methodist Church 620 Euclid Avenue  Saegertown 
	PA 16433
GEO:41.722345;-80.1474258
END:VEVENT
END:VCALENDAR