BEGIN:VCALENDAR
VERSION:2.0
PRODID:-//Tukios.com/
BEGIN:VEVENT
UID:8f6def6c-8fd2-4b10-a73d-ec04b0de169c@www.miznerfuneralhome.com
DTSTAMP:20260420T220515Z
DTSTART:20260426T190000Z
DTEND:20260426T220000Z
SUMMARY:Visitation
DESCRIPTION:
URL:https://www.miznerfuneralhome.com/obituaries/joseph-palmer
LOCATION: 330 Broad Street  Saegertown PA 16433
GEO:41.7207939;-80.1476177
END:VEVENT
END:VCALENDAR