BEGIN:VCALENDAR
VERSION:2.0
PRODID:-//Tukios.com/
BEGIN:VEVENT
UID:e1951689-a755-483e-8181-676424792914@www.miznerfuneralhome.com
DTSTAMP:20260419T183338Z
DTSTART:20260425T173000Z
DTEND:20260425T183000Z
SUMMARY:Funeral Service
DESCRIPTION:
URL:https://www.miznerfuneralhome.com/obituaries/delorse-burnett
LOCATION:New Beginnings Church of God 13226 Leslie Road  Meadville PA 
	16335
GEO:41.6515896;-80.111713
END:VEVENT
END:VCALENDAR