BEGIN:VCALENDAR
VERSION:2.0
PRODID:-//Tukios.com/
BEGIN:VEVENT
UID:7c4c9020-ecf5-46df-ba7b-dd8ff1c353db@www.miznerfuneralhome.com
DTSTAMP:20260419T183549Z
DTSTART:20260424T210000Z
DTEND:20260424T230000Z
SUMMARY:Visitation
DESCRIPTION:
URL:https://www.miznerfuneralhome.com/obituaries/delorse-burnett
LOCATION:STEPHEN P. MIZNER FUNERAL HOME & CREMATION SERVICES, INC. 404 
	Chestnut Street  Meadville PA 16335
GEO:41.6367617;-80.1477865
END:VEVENT
END:VCALENDAR